BEGIN:VCALENDAR
VERSION:2.0
PRODID:-//Tafeltennisvereniging Oranje Zwart - Haarlem Noord - ECPv6.8.3//NONSGML v1.0//EN
CALSCALE:GREGORIAN
METHOD:PUBLISH
X-ORIGINAL-URL:https://tafeltennisoranjezwart.nl
X-WR-CALDESC:Evenementen voor Tafeltennisvereniging Oranje Zwart - Haarlem Noord
REFRESH-INTERVAL;VALUE=DURATION:PT1H
X-Robots-Tag:noindex
X-PUBLISHED-TTL:PT1H
BEGIN:VTIMEZONE
TZID:UTC
BEGIN:STANDARD
TZOFFSETFROM:+0000
TZOFFSETTO:+0000
TZNAME:UTC
DTSTART:20250101T000000
END:STANDARD
END:VTIMEZONE
BEGIN:VEVENT
DTSTART;TZID=UTC:20250513T200000
DTEND;TZID=UTC:20250513T220000
DTSTAMP:20260419T225817
CREATED:20250430T210311Z
LAST-MODIFIED:20250430T213346Z
UID:641-1747166400-1747173600@tafeltennisoranjezwart.nl
SUMMARY:Trainingsavond
DESCRIPTION:
URL:https://tafeltennisoranjezwart.nl/event/trainingsavond/
CATEGORIES:Training
END:VEVENT
END:VCALENDAR