BEGIN:VCALENDAR
VERSION:2.0
PRODID:-//Tafeltennisvereniging Oranje Zwart - Haarlem Noord - ECPv6.8.3//NONSGML v1.0//EN
CALSCALE:GREGORIAN
METHOD:PUBLISH
X-WR-CALNAME:Tafeltennisvereniging Oranje Zwart - Haarlem Noord
X-ORIGINAL-URL:https://tafeltennisoranjezwart.nl
X-WR-CALDESC:Evenementen voor Tafeltennisvereniging Oranje Zwart - Haarlem Noord
REFRESH-INTERVAL;VALUE=DURATION:PT1H
X-Robots-Tag:noindex
X-PUBLISHED-TTL:PT1H
BEGIN:VTIMEZONE
TZID:UTC
BEGIN:STANDARD
TZOFFSETFROM:+0000
TZOFFSETTO:+0000
TZNAME:UTC
DTSTART:20260101T000000
END:STANDARD
END:VTIMEZONE
BEGIN:VEVENT
DTSTART;TZID=UTC:20260421T200000
DTEND;TZID=UTC:20260421T220000
DTSTAMP:20260421T015121
CREATED:20260324T221028Z
LAST-MODIFIED:20260324T221028Z
UID:891-1776801600-1776808800@tafeltennisoranjezwart.nl
SUMMARY:Meertreffers toernooi
DESCRIPTION:
URL:https://tafeltennisoranjezwart.nl/event/meertreffers-toernooi-2/
END:VEVENT
END:VCALENDAR